BEGIN:VCALENDAR
VERSION:2.0
PRODID:-//https://eruuf.org///NONSGML kigkonsult.se iCalcreator 2.10.15//
METHOD:PUBLISH
BEGIN:VEVENT
UID:20260424T192837UTC-3495XSbiHA@https://eruuf.org/
DTSTAMP:20260424T192837Z
DESCRIPTION:Support Durham CAN and attend the press conference to present t
 he priorities of Durham CAN in working with the future Durham Police Chief
 . Event will take place in front of the Durham Police Station across from 
 Duke Memorial Church. Plan to arrive early. Traffic can be an issue at tha
 t location/time of day. Contact: Cindy Henshaw\, crhenshaw@gmail.com or Re
 v. Cayer\,dcayer@eruuf.org. https://eruuf.org/calendar/calendar-view/event
 /674-durham-can-police-community-relations-action.html
DTSTART:20160426T213000Z
DTEND:20160426T230000Z
LOCATION:Durham Police Station (505 W Chapel Hill St\, Durham\, NC 27701\, 
 USA)
SUMMARY:Durham CAN Police Community Relations Action
URL:https://eruuf.org/calendar/calendar-view/event/674-durham-can-police-co
 mmunity-relations-action.html
END:VEVENT
END:VCALENDAR
