BEGIN:VCALENDAR
VERSION:2.0
PRODID:-//https://eruuf.org///NONSGML kigkonsult.se iCalcreator 2.10.15//
METHOD:PUBLISH
BEGIN:VEVENT
UID:20260421T123811UTC-24678lxoBX@https://eruuf.org/
DTSTAMP:20260421T123811Z
DESCRIPTION:Board meeting of the Eno River Fellowship Foundation.  Contact 
 Doug Rhodes https://eruuf.org/calendar/calendar-view/event/675-eno-river-f
 ellowship-foundation.html
DTSTART:20160425T230000Z
DTEND:20160426T000000Z
LOCATION:Room 1 - CARE Building ()
SUMMARY:Eno River Fellowship Foundation
URL:https://eruuf.org/calendar/calendar-view/event/675-eno-river-fellowship
 -foundation.html
END:VEVENT
END:VCALENDAR
