BEGIN:VCALENDAR
VERSION:2.0
PRODID:-//https://eruuf.org///NONSGML kigkonsult.se iCalcreator 2.10.15//
METHOD:PUBLISH
BEGIN:VEVENT
UID:20260421T192207UTC-0755H84wNb@https://eruuf.org/
DTSTAMP:20260421T192207Z
DESCRIPTION:Forward Together Moral Movement Monday\, April 25   Mass Sit-In
  To Stand Up Against Hate Bill 2 Calling for the Total Repeal of House Bil
 l 2 'Then put on your marching shoes. Put on you praying shoes. Put on you
 r singing outfits. And let's turn the people's house into a cathedral of d
 emocracy on Moral Monday\, April 25th. I can't wait to see you.'   -- Rev.
  Deborah CayerLetter from Rev. Barber about event.Schedule of the day:STAT
 E CAPITOL 1 E. Edenton St. Raleigh\, NC9:30 am - Press Conference and Peti
 tion Drop - Capitol10:30 am - Direct Action Strategic Planning - Capitol11
 :30 am - Speak Out - Capitol12:00 pm - Direct Action/Protest - CapitolBICE
 NTENNIAL MALL 16 W. Jones St. Raleigh\, NC2:00 pm. - Direct Action Strateg
 ies - Bicentennial Mall3:00 pm - Moral Monday 3rd Anniversary RallyNC GENE
 RAL ASSEMBLY 16 W. Jones St. Raleigh4:00 pm - Mass Sit-In -NC General Asse
 mbly7:00 pm - Southerners on New Ground - Rally(for more info please email
  forwardtogether@naacpnc.org) Group carpool link: https://www.groupcarpool
 .com/t/ihpxwn  Indicate 'ERUUF' (or wherever you are leaving from) where i
 t asks for city when adding a car.  The detailed departure location doesn'
 t show up without looking for it. https://eruuf.org/calendar/calendar-view
 /event/676-moral-monday-april-25.html
DTSTART;VALUE=DATE:20160425
LOCATION:Downtown Raleigh (South Wilmington Street\, Raleigh\, NC\, USA)
SUMMARY:Moral Monday\, April 25
URL:https://eruuf.org/calendar/calendar-view/event/676-moral-monday-april-2
 5.html
END:VEVENT
END:VCALENDAR
