BEGIN:VCALENDAR
VERSION:2.0
PRODID:-//https://eruuf.org///NONSGML kigkonsult.se iCalcreator 2.10.15//
METHOD:PUBLISH
BEGIN:VEVENT
UID:20260424T071506UTC-0462zR4wZ0@https://eruuf.org/
DTSTAMP:20260424T071506Z
DESCRIPTION:Monthly conversations that seek to deepen the understanding and
  reality of our becoming a radically inclusive community. Contact Steve Fr
 anklin.\n ---\nERUUF’s Multicultural Team (MCT) invites you to attend this
  month's 'First Sunday Conversations”.  Due to popular demand\, January's 
 topic is a repeat of November's discussion\, inspired by an article by Kat
 ica Roy\, CEO of Pipeline Equity\, where she asks\, “When we ignore 51% of
  the voices in our country\, are we eroding the public trust and the very 
 foundation of our democracy?”  \nTopic/Question: “Is the lack of gender eq
 uity in the news media a threat to our democracy?  Please\, bring your kno
 wledge\, experience and insight to our discussion! \nFor those who attende
 d November's discussion\, here are some links as a result of our very stim
 ulating conversation:Women's Media CenterGender Equity Vs. Gender Equality
 : What’s the Distinction? https://eruuf.org/calendar/calendar-view/event/6
 782-first-sunday-conversations.html
DTSTART:20200105T180000Z
DTEND:20200105T190000Z
LOCATION:Room 3 - CARE Building ()
SUMMARY:First Sunday Conversations
URL:https://eruuf.org/calendar/calendar-view/event/6782-first-sunday-conver
 sations.html
END:VEVENT
END:VCALENDAR
