BEGIN:VCALENDAR
VERSION:2.0
PRODID:-//https://eruuf.org///NONSGML kigkonsult.se iCalcreator 2.10.15//
METHOD:PUBLISH
BEGIN:VEVENT
UID:20260423T142503UTC-0821KViJAb@https://eruuf.org/
DTSTAMP:20260423T142503Z
DESCRIPTION:Monthly conversations that seek to deepen the understanding and
  reality of our becoming a radically inclusive community. Contact Steve Fr
 anklin.\nThe Multicultural Team (MCT) invites you to attend this season’s 
 initial “First Sunday Conversations.”  Recently\, people of color\, as wel
 l as\, many others have heard these words\, “Go back where you come from.”
  Go back to Africa\, Mexico\, China\, the Middle East\, etc. Throughout Am
 erican history\, we’ve heard these words before. Considering the surge in 
 the level of intolerance and cruelty in this nation\, What can we do to ad
 vance healing and to advance progress towards equity in our political syst
 ems\, justice\, economics\, and access to health care? We need specific st
 rategies! https://eruuf.org/calendar/calendar-view/event/6783-first-sunday
 -conversations.html
DTSTART:20200202T180000Z
DTEND:20200202T200000Z
LOCATION:Room 3 - CARE Building ()
SUMMARY:First Sunday Conversations
URL:https://eruuf.org/calendar/calendar-view/event/6783-first-sunday-conver
 sations.html
END:VEVENT
END:VCALENDAR
