BEGIN:VCALENDAR
VERSION:2.0
PRODID:-//https://eruuf.org///NONSGML kigkonsult.se iCalcreator 2.10.15//
METHOD:PUBLISH
BEGIN:VEVENT
UID:20260419T195459UTC-1671V0w5jd@https://eruuf.org/
DTSTAMP:20260419T195459Z
DESCRIPTION:Please join the High School Youth Group in celebrating Religiou
 s Education at the R.E. Pancake Breakfast Sunday\, April 24 after each ser
 vice! We'll have delicious pancakes in a variety of fun flavors (gluten fr
 ee too)\, awesome fellowship\, and live entertainment by the Sunshine Kids
 ! Donations support our Coming of Age trip and the Youth Scholarship Fund!
  https://eruuf.org/calendar/calendar-view/event/679-teacher-appreciation-p
 ancake-breakfast.html
DTSTART;VALUE=DATE:20160424
LOCATION:Fellowship Hall   ()
SUMMARY:Teacher Appreciation Pancake Breakfast
URL:https://eruuf.org/calendar/calendar-view/event/679-teacher-appreciation
 -pancake-breakfast.html
END:VEVENT
END:VCALENDAR
