BEGIN:VCALENDAR
VERSION:2.0
PRODID:-//https://eruuf.org///NONSGML kigkonsult.se iCalcreator 2.10.15//
METHOD:PUBLISH
BEGIN:VEVENT
UID:20260422T200154UTC-83582184jv@https://eruuf.org/
DTSTAMP:20260422T200154Z
DESCRIPTION:Come learn about ERUUF's proposed budget for 2018/2019. Daniel 
 Trollinger will present and answer questions\, and Board members will be o
 n hand to hear your input before we finalize the budget to be presented at
  the Annual Meeting on June 3(save the date!). Can't make the meeting but 
 have something on your mind? Contact Daniel (dtrollinger@eruuf.org) or the
  Board (board@eruuf.org). https://eruuf.org/calendar/calendar-view/event/6
 8-finance-forum.html
DTSTART:20180506T143000Z
DTEND:20180506T151500Z
LOCATION:Room 4/5   (4907 Garrett Rd\, Durham\, NC 27707   )
SUMMARY:Finance Forum
URL:https://eruuf.org/calendar/calendar-view/event/68-finance-forum.html
END:VEVENT
END:VCALENDAR
