BEGIN:VCALENDAR
VERSION:2.0
PRODID:-//https://eruuf.org///NONSGML kigkonsult.se iCalcreator 2.10.15//
METHOD:PUBLISH
BEGIN:VEVENT
UID:20260421T004846UTC-8721KznVe6@https://eruuf.org/
DTSTAMP:20260421T004846Z
DESCRIPTION:Save the date if you plan to be an R.E. teacher this year! Ques
 tions? Contact Julia Tyler\, DRE.  https://eruuf.org/calendar/calendar-vie
 w/event/6809-re-teacher-training.html
DTSTART:20190824T123000Z
DTEND:20190824T183000Z
LOCATION:ERUUF Fellowship Hall (4907 Garrett Road)
SUMMARY:RE Teacher Training
URL:https://eruuf.org/calendar/calendar-view/event/6809-re-teacher-training
 .html
END:VEVENT
END:VCALENDAR
