BEGIN:VCALENDAR
VERSION:2.0
PRODID:-//https://eruuf.org///NONSGML kigkonsult.se iCalcreator 2.10.15//
METHOD:PUBLISH
BEGIN:VEVENT
UID:20260422T162737UTC-87734gDVbA@https://eruuf.org/
DTSTAMP:20260422T162737Z
DESCRIPTION:An Earth Day Gathering for All Ages! Please join the ERUUF Pare
 nts Group for our monthly gathering on Saturday\, April 23 at 3 pm in the 
 ERUUF Commons Room and nearby outdoor spaces.Let's come together and show 
 appreciation for our planet! We'll learn about pollution\, make ‘seed bomb
 s’ to take home with us to make our surrounding spaces more beautiful\, li
 sten to a story about why we practice preserving our natural surroundings\
 , and more! This event is intended for all ages\, and will be a great oppo
 rtunity to celebrate our planet’s many treasures.The Parent's Group invite
 s all to come with a voice to share ideas about: How can all members of ER
 UUF support our 'blue boat'? What has already been done right here on the 
 grounds of the congregation? What conservation efforts are working now\, a
 nd what do we hope to achieve going forward\, both as individuals and as a
  community?Please email Christine Frost at xatalli@yahoo.com with any ques
 tions\, or to volunteer. https://eruuf.org/calendar/calendar-view/event/68
 1-parents-group.html
DTSTART:20160423T190000Z
DTEND:20160423T210000Z
LOCATION:Room 4/5   (4907 Garrett Rd\, Durham\, NC 27707   )
SUMMARY:Parents Group
URL:https://eruuf.org/calendar/calendar-view/event/681-parents-group.html
END:VEVENT
END:VCALENDAR
