BEGIN:VCALENDAR
VERSION:2.0
PRODID:-//https://eruuf.org///NONSGML kigkonsult.se iCalcreator 2.10.15//
METHOD:PUBLISH
BEGIN:VEVENT
UID:20260421T091814UTC-8882SuVtfx@https://eruuf.org/
DTSTAMP:20260421T091814Z
DESCRIPTION:We invite all adults engaged in parenting to join the DRE or an
  RE Ministry Team member for conversation around the spiritual dimensions 
 of caring for children and youth.  For more information contact:  Julia Ty
 ler\, jtyler@eruuf.org https://eruuf.org/calendar/calendar-view/event/6811
 -parents-spiritual-parenting-group.html
DTSTART:20190915T140000Z
DTEND:20190915T150000Z
LOCATION:Library - CARE Building ()
SUMMARY:Parents: Spiritual Parenting Group 
URL:https://eruuf.org/calendar/calendar-view/event/6811-parents-spiritual-p
 arenting-group.html
END:VEVENT
END:VCALENDAR
