BEGIN:VCALENDAR
VERSION:2.0
PRODID:-//https://eruuf.org///NONSGML kigkonsult.se iCalcreator 2.10.15//
METHOD:PUBLISH
BEGIN:VEVENT
UID:20260423T213023UTC-7954NW8miU@https://eruuf.org/
DTSTAMP:20260423T213023Z
DESCRIPTION:Are 2\,000-year-old parables relevant in today’s world? You dec
 ide! ERUUF's Christian Fellowship is facilitating discussions on May 19\, 
 June 16\, and June 30\, each focusing on one parable from the Christian Sc
 riptures. Sessions will cover historical background\, a series of question
 s to find universal values and lessons and a rewrite of the parable for mo
 dern times.\nIn each of three sessions\, we will read one parable from the
  Christian Scriptures\, then use historical background and a series of que
 stions to analyze the content for universal values and lessons. Together\,
  we’ll explore the parable’s relevance to UU principles\, and finally\, su
 ggest modern settings and characters through which the values could be ill
 ustrated in today’s world. Parables covered: The Good Samaritan\, The Rich
  Fool\, and The Workers in the Vineyard. Bring a bag lunch\, and we will p
 rovide drinks and dessert.\nRegister below to attend one\, two\, or all th
 ree sessions. For more information\, Contact us at UUCF@eruuf.org.\nSchedu
 le:\nMay 19th\, Room 3\, 12:30-2:30\, The Rich Fool\nJune 16th\, Room 3\, 
 12:30-2:30\, The Workers in the Vineyard\nJune 30th\, Room 3\, 12:30 - 2:3
 0\, The Good Samaritan\nRegister https://eruuf.org/calendar/calendar-view/
 event/6821-stories-traveling-through-time-the-good-samaritan.html
DTSTART:20190630T160000Z
DTEND:20190630T183000Z
LOCATION:Room 3 - CARE Building ()
SUMMARY:Stories Traveling Through Time: The Good Samaritan
URL:https://eruuf.org/calendar/calendar-view/event/6821-stories-traveling-t
 hrough-time-the-good-samaritan.html
END:VEVENT
END:VCALENDAR
