BEGIN:VCALENDAR
VERSION:2.0
PRODID:-//https://eruuf.org///NONSGML kigkonsult.se iCalcreator 2.10.15//
METHOD:PUBLISH
BEGIN:VEVENT
UID:20260421T172831UTC-8681wUVatV@https://eruuf.org/
DTSTAMP:20260421T172831Z
DESCRIPTION:There is lots of work to be done to get ERUUF's beautiful campu
 s ready for the heat of summer.  Let's make this a large group effort  - b
 uilding community and having some fun while creating a place of beauty and
  peace. Just show up for a couple of hours and Barbara Beaman\, our garden
  volunteer coordinator\, will put you to work.  No experience necessary. h
 ttps://eruuf.org/calendar/calendar-view/event/6830-all-hands-on-deck-garde
 n-day.html
DTSTART:20190601T123000Z
DTEND:20190601T153000Z
LOCATION:ERUUF Campus   (4907 Garrett Rd\, Durham\, NC 27707    )
SUMMARY:ALL HANDS ON DECK Garden Day
URL:https://eruuf.org/calendar/calendar-view/event/6830-all-hands-on-deck-g
 arden-day.html
END:VEVENT
END:VCALENDAR
