BEGIN:VCALENDAR
VERSION:2.0
PRODID:-//https://eruuf.org///NONSGML kigkonsult.se iCalcreator 2.10.15//
METHOD:PUBLISH
BEGIN:VEVENT
UID:20260421T204134UTC-4228i1TuDa@https://eruuf.org/
DTSTAMP:20260421T204134Z
DESCRIPTION:Contact Jacqueline Brett\, jbrett@eruuf.org https://eruuf.org/c
 alendar/calendar-view/event/684-membership-council-meeting.html
DTSTART:20160419T230000Z
DTEND:20160420T010000Z
LOCATION:Commons Room   (4907 Garrett Rd\, Durham\, NC 27707  )
SUMMARY:Membership Council meeting
URL:https://eruuf.org/calendar/calendar-view/event/684-membership-council-m
 eeting.html
END:VEVENT
END:VCALENDAR
