BEGIN:VCALENDAR
VERSION:2.0
PRODID:-//https://eruuf.org///NONSGML kigkonsult.se iCalcreator 2.10.15//
METHOD:PUBLISH
BEGIN:VEVENT
UID:20260419T124818UTC-4056Nl54DE@https://eruuf.org/
DTSTAMP:20260419T124818Z
DESCRIPTION:Contact Lonna Harkrader https://eruuf.org/calendar/calendar-vie
 w/event/685-sister-communities-of-san-ramon-board-meeting.html
DTSTART:20160418T230000Z
DTEND:20160419T010000Z
LOCATION:Room 7 - CARE Building ()
SUMMARY:Sister Communities of San Ramon board meeting
URL:https://eruuf.org/calendar/calendar-view/event/685-sister-communities-o
 f-san-ramon-board-meeting.html
END:VEVENT
END:VCALENDAR
