BEGIN:VCALENDAR
VERSION:2.0
PRODID:-//https://eruuf.org///NONSGML kigkonsult.se iCalcreator 2.10.15//
METHOD:PUBLISH
BEGIN:VEVENT
UID:20260426T001954UTC-9282GlIaOL@https://eruuf.org/
DTSTAMP:20260426T001954Z
DESCRIPTION:This event has been cancelled.  The Leadrship Forum is for all 
 group leaders or faciltators at ERUUF or any participant at ERUUF that is 
 interested in leadership. Contact Daniel Trollinger\, dtrollinger@eruuf.or
 g https://eruuf.org/calendar/calendar-view/event/686-leadership-forum-canc
 elled.html
DTSTART:20160418T230000Z
DTEND:20160419T010000Z
LOCATION:Fellowship Hall   ()
SUMMARY:Leadership Forum- cancelled
URL:https://eruuf.org/calendar/calendar-view/event/686-leadership-forum-can
 celled.html
END:VEVENT
END:VCALENDAR
