BEGIN:VCALENDAR
VERSION:2.0
PRODID:-//https://eruuf.org///NONSGML kigkonsult.se iCalcreator 2.10.15//
METHOD:PUBLISH
BEGIN:VEVENT
UID:20260421T145216UTC-0099tUbCGp@https://eruuf.org/
DTSTAMP:20260421T145216Z
DESCRIPTION:InfUUsions has openings for new members.  For more information\
 , contact Beth Harvat https://eruuf.org/calendar/calendar-view/event/688-i
 nfuusions-giving-circle.html
DTSTART:20160417T170000Z
DTEND:20160417T190000Z
LOCATION:Library - CARE Building ()
SUMMARY:InfUUsions Giving Circle
URL:https://eruuf.org/calendar/calendar-view/event/688-infuusions-giving-ci
 rcle.html
END:VEVENT
END:VCALENDAR
