BEGIN:VCALENDAR
VERSION:2.0
PRODID:-//https://eruuf.org///NONSGML kigkonsult.se iCalcreator 2.10.15//
METHOD:PUBLISH
BEGIN:VEVENT
UID:20260420T145725UTC-9196dW7vWN@https://eruuf.org/
DTSTAMP:20260420T145725Z
DESCRIPTION:Unitarian Universalist Spiritual Sustenance for People of Color
 --A Conversation Among Friends. Come join Rev. Leslie Takahashi for a conv
 ersation about how to grow as UUs of color in an ever-challenging frame.Re
 v. Leslie Takahashi is a former member and President of ERUUF.  She's now 
 a well respected UU minister who is recognized as a leader on multicultura
 l and anti-racism\, anti-oppression issues.  She is one of the authors of 
 the Arc of the Universe is Long:  A History of Antiracism in the UU.  Rev.
  Leslie will be our guest preacher on April 17\,  https://eruuf.org/calend
 ar/calendar-view/event/690-conversation-with-rev-leslie-takahashi.html
DTSTART:20160416T150000Z
DTEND:20160417T163000Z
LOCATION:Room 4/5   (4907 Garrett Rd\, Durham\, NC 27707   )
SUMMARY:Conversation with Rev. Leslie Takahashi
URL:https://eruuf.org/calendar/calendar-view/event/690-conversation-with-re
 v-leslie-takahashi.html
END:VEVENT
END:VCALENDAR
