BEGIN:VCALENDAR
VERSION:2.0
PRODID:-//https://eruuf.org///NONSGML kigkonsult.se iCalcreator 2.10.15//
METHOD:PUBLISH
BEGIN:VEVENT
UID:20260425T170810UTC-2208rXveOS@https://eruuf.org/
DTSTAMP:20260425T170810Z
DESCRIPTION:The 42nd annual Durham CROP Hunger Walk is Sunday March 20 star
 ting at Duke Chapel at 1:30. Join the ERUUF team or donate at https://www.
 crophungerwalk.org/durhamnc/eruuf or sign up at coffee hour on March 6 and
  13. https://eruuf.org/calendar/calendar-view/event/702-durham-crop-hunger
 -walk.html
DTSTART:20160320T173000Z
DTEND:20160320T193000Z
LOCATION:Duke Chapel (Duke Chapel\, 401 Chapel Dr\, Durham\, NC 27705\, USA
 )
SUMMARY:Durham CROP Hunger Walk
URL:https://eruuf.org/calendar/calendar-view/event/702-durham-crop-hunger-w
 alk.html
END:VEVENT
END:VCALENDAR
