BEGIN:VCALENDAR
VERSION:2.0
PRODID:-//https://eruuf.org///NONSGML kigkonsult.se iCalcreator 2.10.15//
METHOD:PUBLISH
BEGIN:VEVENT
UID:20260419T124216UTC-5682vcCdB4@https://eruuf.org/
DTSTAMP:20260419T124216Z
DESCRIPTION: D.R.E. Julia Tyler and Cerah Churchwright invite R.E. Teachers
  to explore intention in the art of teaching. What is intention\, how does
  it benefit ourselves and our children\, and how do we nurture it? We will
  practice intention with paint as the medium. If you are an R.E. teacher\,
  or interested in teaching\, please join us for a fun\, thoughtful\, and r
 echarging workshop. https://eruuf.org/calendar/calendar-view/event/703-pai
 nting-and-intention-the-art-of-teaching-r-e.html
DTSTART:20160320T163000Z
DTEND:20160320T180000Z
LOCATION:Room 4/5   (4907 Garrett Rd\, Durham\, NC 27707   )
SUMMARY:Painting and Intention: the Art of Teaching R.E.
URL:https://eruuf.org/calendar/calendar-view/event/703-painting-and-intenti
 on-the-art-of-teaching-r-e.html
END:VEVENT
END:VCALENDAR
