BEGIN:VCALENDAR
VERSION:2.0
PRODID:-//https://eruuf.org///NONSGML kigkonsult.se iCalcreator 2.10.15//
METHOD:PUBLISH
BEGIN:VEVENT
UID:20260424T205711UTC-4388t6ltu0@https://eruuf.org/
DTSTAMP:20260424T205711Z
DESCRIPTION:Monthly Parents Group meeting.  We'll be assembling sandwiches 
 and pet-food bags for Meals on Wheels.  Contact  Jessica Sheffield This ev
 ent is for families – so please bring the kids!To join the sandwich assemb
 ly line\, please bring a hat of some sort. We’ll provide gloves. To join t
 he pet-food assembly line\, please bring a kid-size scooper (1-cup measuri
 ng cup\, for example).And if you are so inclined\, you can sign up to brin
 g sandwich-making materials using this link:http://www.signupgenius.com/go
 /30e0b44a4af23a7fe3-meals Come and have some fun with ERUUF families on Ma
 rch 19th at 3:30! https://eruuf.org/calendar/calendar-view/event/704-paren
 ts-group.html
DTSTART:20160319T193000Z
DTEND:20160319T213000Z
LOCATION:Commons Room   (4907 Garrett Rd\, Durham\, NC 27707  )
SUMMARY:Parents Group
URL:https://eruuf.org/calendar/calendar-view/event/704-parents-group.html
END:VEVENT
END:VCALENDAR
