BEGIN:VCALENDAR
VERSION:2.0
PRODID:-//https://eruuf.org///NONSGML kigkonsult.se iCalcreator 2.10.15//
METHOD:PUBLISH
BEGIN:VEVENT
UID:20260423T034604UTC-6103U1Elik@https://eruuf.org/
DTSTAMP:20260423T034604Z
DESCRIPTION:If you’ve been attending ERUUF for a while and would like to de
 epen your involvement and commitment\, you’re invited to the next Journey 
 to Membership class. You’ll learn more about ERUUF and what it means to be
  a member here. And for those who are interested\, a book signing ceremony
  (required for membership) will take place with Rev. Cayer directly afterw
 ards. We’ll begin with bagels and coffee. Childcare provided if requested 
 no later than Monday\, March 14.Please register in advance here (http://ti
 nyurl.com/J2M-Mar2016). Contact: Jacqueline Brett\, jbrett@eruuf.org or 91
 9-489-2575 (ext.109). https://eruuf.org/calendar/calendar-view/event/706-j
 ourney-to-membership-class.html
DTSTART:20160319T130000Z
DTEND:20160319T160000Z
LOCATION:Room 4/5   (4907 Garrett Rd\, Durham\, NC 27707   )
SUMMARY:Journey to Membership Class
URL:https://eruuf.org/calendar/calendar-view/event/706-journey-to-membershi
 p-class.html
END:VEVENT
END:VCALENDAR
