BEGIN:VCALENDAR
VERSION:2.0
PRODID:-//https://eruuf.org///NONSGML kigkonsult.se iCalcreator 2.10.15//
METHOD:PUBLISH
BEGIN:VEVENT
UID:20260421T112936UTC-6384WPuN3h@https://eruuf.org/
DTSTAMP:20260421T112936Z
DESCRIPTION:Series of 4 classes taught by Kelli Crispin\, Preregistration r
 equired. Dates are Feb. 13\, Mar 19\, Apr 9 and May 7. Contact Barb Callie
 \, barb@pascalipiano.com https://eruuf.org/calendar/calendar-view/event/70
 7-shibori-workshop.html
DTSTART:20160319T130000Z
DTEND:20160319T163000Z
LOCATION:Fellowship Hall   ()
SUMMARY:Shibori Workshop
URL:https://eruuf.org/calendar/calendar-view/event/707-shibori-workshop.htm
 l
END:VEVENT
END:VCALENDAR
