BEGIN:VCALENDAR
VERSION:2.0
PRODID:-//https://eruuf.org///NONSGML kigkonsult.se iCalcreator 2.10.15//
METHOD:PUBLISH
BEGIN:VEVENT
UID:20260424T011516UTC-6476Z3v3fV@https://eruuf.org/
DTSTAMP:20260424T011516Z
DESCRIPTION:Durham Can's Public Assembly asks top leaders from the public a
 nd private sectors -including candidates for elected office-  to react to 
 CAN's vision and action items.  All ERUUFians are invited to attend and he
 lp support democracy in action. Topics at this assembly will include youth
  opportunity\, affordable housing and community policing. For more informa
 tion\, contact Cindy Henshaw. https://eruuf.org/calendar/calendar-view/eve
 nt/709-durham-can-public-assembly.html
DTSTART:20160313T180000Z
DTEND:20160313T193000Z
LOCATION:First Presbyterian Church (305 E Main St\, Durham\, NC 27701\, USA
 )
SUMMARY:Durham CAN Public Assembly
URL:https://eruuf.org/calendar/calendar-view/event/709-durham-can-public-as
 sembly.html
END:VEVENT
END:VCALENDAR
