BEGIN:VCALENDAR
VERSION:2.0
PRODID:-//https://eruuf.org///NONSGML kigkonsult.se iCalcreator 2.10.15//
METHOD:PUBLISH
BEGIN:VEVENT
UID:20260424T203958UTC-9465TuBCRH@https://eruuf.org/
DTSTAMP:20260424T203958Z
DESCRIPTION:The Homeless Action Team is hosting a gathering in the Fellowsh
 ip Hall at 1:00 PM on March 13th following the second service.  Bo Glenn\,
  the coordinator of the team\, writes:The purpose of the meeting is to rep
 ort on our work in 2015 and what is planned for 2016.  We also would like 
 to acquaint and encourage interested folks to get involved in the ongoing 
 projects at Urban Ministries' (UMD) homeless shelter and community pantry 
 and closet.  As a supporter of the ERUUF effort at UMD\, it would be great
  if you could come to the meeting.  There will be time to share your exper
 iences with some folks who have not yet worked at the Shelter and maybe do
  some recruiting to help with the ERUUF effort.As a partner with UMD\, we 
 have a number of opportunities to participate.  It would be great if we co
 uld continue to expand our participation so that other members of the Fell
 owship can take part.  Also\, working at the Shelter has provided a number
  of opportunities for the middle and high school students.  I would like t
 o continue to expand these opportunities.  https://eruuf.org/calendar/cale
 ndar-view/event/710-homeless-action-team-meeting.html
DTSTART:20160313T170000Z
DTEND:20160313T190000Z
LOCATION:Fellowship Hall   ()
SUMMARY:Homeless Action Team meeting
URL:https://eruuf.org/calendar/calendar-view/event/710-homeless-action-team
 -meeting.html
END:VEVENT
END:VCALENDAR
