BEGIN:VCALENDAR
VERSION:2.0
PRODID:-//https://eruuf.org///NONSGML kigkonsult.se iCalcreator 2.10.15//
METHOD:PUBLISH
BEGIN:VEVENT
UID:20260424T011659UTC-7181UUIvVU@https://eruuf.org/
DTSTAMP:20260424T011659Z
DESCRIPTION:Dismantling Racism 2-day workshop. Registration required. Click
  here for more information and to sign up. https://eruuf.org/calendar/cale
 ndar-view/event/712-dismantling-racism-workshop.html
DTSTART:20160305T130000Z
DTEND:20160305T223000Z
LOCATION:Fellowship Hall   ()
SUMMARY:Dismantling Racism Workshop
URL:https://eruuf.org/calendar/calendar-view/event/712-dismantling-racism-w
 orkshop.html
END:VEVENT
END:VCALENDAR
