BEGIN:VCALENDAR
VERSION:2.0
PRODID:-//https://eruuf.org///NONSGML kigkonsult.se iCalcreator 2.10.15//
METHOD:PUBLISH
BEGIN:VEVENT
UID:20260421T042938UTC-8116tKFlVc@https://eruuf.org/
DTSTAMP:20260421T042938Z
DESCRIPTION:Dismantling Racism 2-day workshop. Registration required. Click
  here for more information and to sign up. https://eruuf.org/calendar/cale
 ndar-view/event/713-dismantling-racism-workshop.html
DTSTART:20160304T223000Z
DTEND:20160305T020000Z
LOCATION:Fellowship Hall   ()
SUMMARY:Dismantling Racism Workshop
URL:https://eruuf.org/calendar/calendar-view/event/713-dismantling-racism-w
 orkshop.html
END:VEVENT
END:VCALENDAR
