BEGIN:VCALENDAR
VERSION:2.0
PRODID:-//https://eruuf.org///NONSGML kigkonsult.se iCalcreator 2.10.15//
METHOD:PUBLISH
BEGIN:VEVENT
UID:20260419T152518UTC-3357JUtNr3@https://eruuf.org/
DTSTAMP:20260419T152518Z
DESCRIPTION:Contact Kat Moran kat.mh.moran@gmail.com https://eruuf.org/cale
 ndar/calendar-view/event/716-hsyg-advisors.html
DTSTART:20160224T233000Z
DTEND:20160225T020000Z
LOCATION:Library - CARE Building ()
SUMMARY:HSYG Advisors
URL:https://eruuf.org/calendar/calendar-view/event/716-hsyg-advisors.html
END:VEVENT
END:VCALENDAR
