BEGIN:VCALENDAR
VERSION:2.0
PRODID:-//https://eruuf.org///NONSGML kigkonsult.se iCalcreator 2.10.15//
METHOD:PUBLISH
BEGIN:VEVENT
UID:20260423T194852UTC-4550k4pxhW@https://eruuf.org/
DTSTAMP:20260423T194852Z
DESCRIPTION:For all people interested in Earth Justice and/or the Community
  Edible Landscape Program (CELP).  Contact Tom FletcherWe have 3 main topi
 cs to discuss:1. How do we want to spend the remainder of our funds alloca
 tion of the 2015-16 fiscal year ending onJune 30.2. What kind of activitie
 s do we want to sponsor/organize for Earth Day (Earth Day is Fri [Apr 22] 
 and the Earth Day service at ERUUF is Sun [Apr 24])3. We need to develop a
  proposal and budget request for the 2016-17 fiscal year.  Time is very sh
 ort as this information MUST be submitted to the Justice Ministry by Feb 2
 6.An RSVP would be very helpful. https://eruuf.org/calendar/calendar-view/
 event/717-earth-justice-meeting.html
DTSTART:20160221T180000Z
DTEND:20160221T193000Z
LOCATION:TBD ()
SUMMARY:Earth Justice meeting
URL:https://eruuf.org/calendar/calendar-view/event/717-earth-justice-meetin
 g.html
END:VEVENT
END:VCALENDAR
