BEGIN:VCALENDAR
VERSION:2.0
PRODID:-//https://eruuf.org///NONSGML kigkonsult.se iCalcreator 2.10.15//
METHOD:PUBLISH
BEGIN:VEVENT
UID:20260424T183756UTC-2972Kja01N@https://eruuf.org/
DTSTAMP:20260424T183756Z
DESCRIPTION:We hope you'll join us if you identify as African American\, As
 ian\, Arab\, Latinx\, Native American\, Pacific Islander\, and/or multirac
 ial. Contact\, Chris chris@major7online.com or Naa naanorleyadom@gmail.com
 . https://eruuf.org/calendar/calendar-view/event/7183-people-of-color-poc.
 html
DTSTART:20190818T160000Z
DTEND:20190818T173000Z
LOCATION:Room 7 - CARE Building ()
SUMMARY:People of Color (POC)
URL:https://eruuf.org/calendar/calendar-view/event/7183-people-of-color-poc
 .html
END:VEVENT
END:VCALENDAR
