BEGIN:VCALENDAR
VERSION:2.0
PRODID:-//https://eruuf.org///NONSGML kigkonsult.se iCalcreator 2.10.15//
METHOD:PUBLISH
BEGIN:VEVENT
UID:20260421T125038UTC-4197PK2sIx@https://eruuf.org/
DTSTAMP:20260421T125038Z
DESCRIPTION:Multicultural Team meets on the third Monday of the month. The 
 Multicultural Team’s (MCT) role is to envision\, research\, assess\, plan\
 , and lead multicultural\, anti-racist\, and anti-oppressive programs and 
 trainings at ERUUF.  For more information\, click here or contact Amassa F
 auntleroy or Rebecca Ferres. https://eruuf.org/calendar/calendar-view/even
 t/719-multicultural-team.html
DTSTART:20160216T000000Z
DTEND:20160216T020000Z
LOCATION:Room 1 - CARE Building ()
SUMMARY:Multicultural Team
URL:https://eruuf.org/calendar/calendar-view/event/719-multicultural-team.h
 tml
END:VEVENT
END:VCALENDAR
