BEGIN:VCALENDAR
VERSION:2.0
PRODID:-//https://eruuf.org///NONSGML kigkonsult.se iCalcreator 2.10.15//
METHOD:PUBLISH
BEGIN:VEVENT
UID:20260422T005624UTC-8022wuZbGa@https://eruuf.org/
DTSTAMP:20260422T005624Z
DESCRIPTION:10th Annual Moral March on Raleigh. Bus leaving ERUUF at 8:30am
 .  You must have made a reservation.If you are driving\, UUs from all over
  are gathering from 9-9:30 in the 400 block South Blount Street\, Downtown
  Raleigh and will joint the march starting at 10 am.  Bring signs about vo
 ting rights like VOTING RIGHTS NOW! or  END MYSTERY MONEY IN ELECTIONS.  U
 se your imagination to get across the message that all NC folks should be 
 able to vote.  The Rally starts gathering at 8:30 across the street from t
 he Raleigh Memorial Auditorium\, 2 East South St. Raleigh\, NCMarch begins
  at 10 a.m and will proceed to the State Capitol.  Speeches on the capitol
  steps are scheduled for 11 am to noon.  Those riding the ERUUF bus will r
 eturn to ERUUF around 2 pm. For more information\, contact Joan Tilghman o
 r Tom FletcherNAACP official Rally website https://eruuf.org/calendar/cale
 ndar-view/event/724-hk-on-j-march.html
DTSTART:20160213T133000Z
DTEND:20160213T190000Z
LOCATION:Raleigh State Capitol (1 E Edenton St\, Raleigh\, NC 27601\, USA)
SUMMARY:HK on J March
URL:https://eruuf.org/calendar/calendar-view/event/724-hk-on-j-march.html
END:VEVENT
END:VCALENDAR
