BEGIN:VCALENDAR
VERSION:2.0
PRODID:-//https://eruuf.org///NONSGML kigkonsult.se iCalcreator 2.10.15//
METHOD:PUBLISH
BEGIN:VEVENT
UID:20260423T144110UTC-4423mFzkVW@https://eruuf.org/
DTSTAMP:20260423T144110Z
DESCRIPTION:This planning meeting will debate a proposal for the CAN Spring
  Public Delegates Assembly that will take place on Sunday March 13\, 2016.
  Every member institution of Durham CAN is asked to have representatives p
 resent.  ERUUF is a member of Durham CAN\, so all are welcome to attend (w
 ith CAN - more is always better).  If you've not been to a CAN planning me
 eting before\, it's a great way to see how CAN works. Contact Cindy Hensha
 w for more information.  https://eruuf.org/calendar/calendar-view/event/72
 6-can-metro-council-planning-meeting.html
DTSTART:20160211T230000Z
DTEND:20160212T003000Z
LOCATION:Watts Street Baptist Church (800 Watts Street\, Durham\, NC 27701)
SUMMARY:CAN Metro Council Planning meeting
URL:https://eruuf.org/calendar/calendar-view/event/726-can-metro-council-pl
 anning-meeting.html
END:VEVENT
END:VCALENDAR
