BEGIN:VCALENDAR
VERSION:2.0
PRODID:-//https://eruuf.org///NONSGML kigkonsult.se iCalcreator 2.10.15//
METHOD:PUBLISH
BEGIN:VEVENT
UID:20260421T151632UTC-7426Hrjdev@https://eruuf.org/
DTSTAMP:20260421T151632Z
DESCRIPTION:Have you been thinking about becoming a member of ERUUF? Contac
 t student minister Jacqueline Brett for more details: jbrett@eruuf.org. ht
 tps://eruuf.org/calendar/calendar-view/event/730-journey-to-membership-cla
 ss.html
DTSTART:20160206T140000Z
DTEND:20160206T170000Z
LOCATION:Room 4/5   (4907 Garrett Rd\, Durham\, NC 27707   )
SUMMARY:Journey to Membership Class
URL:https://eruuf.org/calendar/calendar-view/event/730-journey-to-membershi
 p-class.html
END:VEVENT
END:VCALENDAR
