BEGIN:VCALENDAR
VERSION:2.0
PRODID:-//https://eruuf.org///NONSGML kigkonsult.se iCalcreator 2.10.15//
METHOD:PUBLISH
BEGIN:VEVENT
UID:20260422T165033UTC-1885wbTJET@https://eruuf.org/
DTSTAMP:20260422T165033Z
DESCRIPTION:Monthly meeting of the Triangle area UU ministers. https://eruu
 f.org/calendar/calendar-view/event/731-thuuma-meeting.html
DTSTART:20160204T140000Z
DTEND:20160204T170000Z
LOCATION:Fellowship Hall   ()
SUMMARY:THUUMA meeting
URL:https://eruuf.org/calendar/calendar-view/event/731-thuuma-meeting.html
END:VEVENT
END:VCALENDAR
