BEGIN:VCALENDAR
VERSION:2.0
PRODID:-//https://eruuf.org///NONSGML kigkonsult.se iCalcreator 2.10.15//
METHOD:PUBLISH
BEGIN:VEVENT
UID:20260423T095814UTC-7364gm6vU3@https://eruuf.org/
DTSTAMP:20260423T095814Z
DESCRIPTION:Contact Jacqueline Brett\, jbrett@eruuf.org https://eruuf.org/c
 alendar/calendar-view/event/733-membership-council-meeting.html
DTSTART:20160203T000000Z
DTEND:20160203T013000Z
LOCATION:Room 1 - CARE Building ()
SUMMARY:Membership Council meeting
URL:https://eruuf.org/calendar/calendar-view/event/733-membership-council-m
 eeting.html
END:VEVENT
END:VCALENDAR
