BEGIN:VCALENDAR
VERSION:2.0
PRODID:-//https://eruuf.org///NONSGML kigkonsult.se iCalcreator 2.10.15//
METHOD:PUBLISH
BEGIN:VEVENT
UID:20260422T174740UTC-4860hWJoNN@https://eruuf.org/
DTSTAMP:20260422T174740Z
DESCRIPTION:The Justice Ministry is expanding its mission and reach at ERUU
 F\, with the goal of having greater visibility and member involvement.If y
 ou currently lead or are interested in starting a justice project at ERUUF
 \, or have a justice vision to share\, the Justice Ministry invites you to
  attend this important orientation meeting. We will focus on creating proj
 ect plans and budget requests for the coming year\, and seeking your ideas
  as the Justice Ministry Steering Committee forms our priorities for 2016 
 and 2017.Please let us know you will come by sending a RSVP to aspenromeyn
 @gmail.com. https://eruuf.org/calendar/calendar-view/event/734-justice-min
 istry-open-planning-meeting.html
DTSTART:20160203T000000Z
DTEND:20160203T011500Z
LOCATION:Commons Room   (4907 Garrett Rd\, Durham\, NC 27707  )
SUMMARY:Justice Ministry Open Planning Meeting
URL:https://eruuf.org/calendar/calendar-view/event/734-justice-ministry-ope
 n-planning-meeting.html
END:VEVENT
END:VCALENDAR
