BEGIN:VCALENDAR
VERSION:2.0
PRODID:-//https://eruuf.org///NONSGML kigkonsult.se iCalcreator 2.10.15//
METHOD:PUBLISH
BEGIN:VEVENT
UID:20260423T194210UTC-6223B1Dfw7@https://eruuf.org/
DTSTAMP:20260423T194210Z
DESCRIPTION:Manzoor is a human rights activist who has long spoken out abou
 t discrimination against Muslims\, and last year won a humanitarian award 
 for his activism.  For more information and to register\, click here https
 ://eruuf.org/calendar/calendar-view/event/735-manzoor-cheema-discussion-on
 -islamophobia.html
DTSTART:20160131T180000Z
DTEND:20160131T200000Z
LOCATION:Fellowship Hall   ()
SUMMARY:Manzoor Cheema discussion on Islamophobia
URL:https://eruuf.org/calendar/calendar-view/event/735-manzoor-cheema-discu
 ssion-on-islamophobia.html
END:VEVENT
END:VCALENDAR
