BEGIN:VCALENDAR
VERSION:2.0
PRODID:-//https://eruuf.org///NONSGML kigkonsult.se iCalcreator 2.10.15//
METHOD:PUBLISH
BEGIN:VEVENT
UID:20260424T054436UTC-9048gUTava@https://eruuf.org/
DTSTAMP:20260424T054436Z
DESCRIPTION:A tour of downtown Durham properties that are subsidized by the
  city\, related to the issue of providing affordable housing in the downto
 wn area. There will be a presentation followed by a Q & A and guided tour.
   ERUUF has committed to have 12 people present. Join us! https://eruuf.or
 g/calendar/calendar-view/event/736-durham-can-tour-of-downtown-subsidies.h
 tml
DTSTART:20160130T150000Z
DTEND:20160130T170000Z
LOCATION:Center for Responsible Lending\, Temple Building (302 W Main St\, 
 Durham\, NC 27701)
SUMMARY:Durham CAN tour of downtown subsidies
URL:https://eruuf.org/calendar/calendar-view/event/736-durham-can-tour-of-d
 owntown-subsidies.html
END:VEVENT
END:VCALENDAR
