BEGIN:VCALENDAR
VERSION:2.0
PRODID:-//https://eruuf.org///NONSGML kigkonsult.se iCalcreator 2.10.15//
METHOD:PUBLISH
BEGIN:VEVENT
UID:20260423T154141UTC-0195RbFZms@https://eruuf.org/
DTSTAMP:20260423T154141Z
DESCRIPTION: https://eruuf.org/calendar/calendar-view/event/7378-stewardshi
 p-steering-team.html
DTSTART:20190806T230000Z
DTEND:20190807T003000Z
LOCATION:Room 1 - CARE Building ()
SUMMARY:Stewardship Steering Team
URL:https://eruuf.org/calendar/calendar-view/event/7378-stewardship-steerin
 g-team.html
END:VEVENT
END:VCALENDAR
