BEGIN:VCALENDAR
VERSION:2.0
PRODID:-//https://eruuf.org///NONSGML kigkonsult.se iCalcreator 2.10.15//
METHOD:PUBLISH
BEGIN:VEVENT
UID:20260422T042150UTC-9449RhR2OR@https://eruuf.org/
DTSTAMP:20260422T042150Z
DESCRIPTION: https://eruuf.org/calendar/calendar-view/event/7379-stewardshi
 p-steering-team.html
DTSTART:20191001T230000Z
DTEND:20191002T003000Z
LOCATION:Room 1 - CARE Building ()
SUMMARY:Stewardship Steering Team
URL:https://eruuf.org/calendar/calendar-view/event/7379-stewardship-steerin
 g-team.html
END:VEVENT
END:VCALENDAR
