BEGIN:VCALENDAR
VERSION:2.0
PRODID:-//https://eruuf.org///NONSGML kigkonsult.se iCalcreator 2.10.15//
METHOD:PUBLISH
BEGIN:VEVENT
UID:20260424T163728UTC-9674h6pBJJ@https://eruuf.org/
DTSTAMP:20260424T163728Z
DESCRIPTION: https://eruuf.org/calendar/calendar-view/event/7381-stewardshi
 p-steering-team.html
DTSTART:20200205T000000Z
DTEND:20200205T013000Z
LOCATION:Room 1 - CARE Building ()
SUMMARY:Stewardship Steering Team
URL:https://eruuf.org/calendar/calendar-view/event/7381-stewardship-steerin
 g-team.html
END:VEVENT
END:VCALENDAR
