BEGIN:VCALENDAR
VERSION:2.0
PRODID:-//https://eruuf.org///NONSGML kigkonsult.se iCalcreator 2.10.15//
METHOD:PUBLISH
BEGIN:VEVENT
UID:20260422T213017UTC-4296E3PVXH@https://eruuf.org/
DTSTAMP:20260422T213017Z
DESCRIPTION: https://eruuf.org/calendar/calendar-view/event/7382-stewardshi
 p-steering-team.html
DTSTART:20200407T230000Z
DTEND:20200408T003000Z
LOCATION:Room 1 - CARE Building ()
SUMMARY:Stewardship Steering Team
URL:https://eruuf.org/calendar/calendar-view/event/7382-stewardship-steerin
 g-team.html
END:VEVENT
END:VCALENDAR
