BEGIN:VCALENDAR
VERSION:2.0
PRODID:-//https://eruuf.org///NONSGML kigkonsult.se iCalcreator 2.10.15//
METHOD:PUBLISH
BEGIN:VEVENT
UID:20260425T032022UTC-7242imboNt@https://eruuf.org/
DTSTAMP:20260425T032022Z
DESCRIPTION:Please join us at 6 pm for a potluck meal (please bring a vegan
  dish)\, followed by the film\, 'Paris to Pittsburgh' at 6:30 pm. No charg
 e. Children welcome. Run-time 60 minutes. Short discussion to follow.\n \n
 Description: The impassioned efforts of individuals who are battling the m
 ost severe threats of climate change in their own backyards. Set against t
 he national debate over the United States' energy future-and the Trump adm
 inistration's explosive decision to exit the Paris Climate Agreement-the f
 ilm captures what's at stake for communities around the country and the in
 spiring ways Americans are responding.\n \n  \n https://eruuf.org/calendar
 /calendar-view/event/7383-earth-justice-monthly-potluck-film-series.html
DTSTART:20190605T220000Z
DTEND:20190606T000000Z
LOCATION:Fellowship Hall   ()
SUMMARY:Earth Justice Monthly Potluck & Film Series
URL:https://eruuf.org/calendar/calendar-view/event/7383-earth-justice-month
 ly-potluck-film-series.html
END:VEVENT
END:VCALENDAR
