BEGIN:VCALENDAR
VERSION:2.0
PRODID:-//https://eruuf.org///NONSGML kigkonsult.se iCalcreator 2.10.15//
METHOD:PUBLISH
BEGIN:VEVENT
UID:20260425T175335UTC-57442wFh9O@https://eruuf.org/
DTSTAMP:20260425T175335Z
DESCRIPTION:It is a much loved ERUUF tradition in which all-ages gather tog
 ether in holiday spirit to make crafts\, ornaments\, and gifts for friends
  and family. We will be lifting up our 7th Principle by utilizing reuse an
 d recyclable materials to make beautiful gifts.\nCost: $10 per person to o
 ffset material cost. If parents can bring a healthy snack that serves 10\,
  that would be wonderful. Limited to 40 participants. Register in advance 
 below. \nFor more information contact Jackie Wachholz. \n \nRegister https
 ://eruuf.org/calendar/calendar-view/event/7384-nifty-gifty.html
DTSTART:20191207T140000Z
DTEND:20191207T170000Z
LOCATION:Commons Room   (4907 Garrett Rd\, Durham\, NC 27707  )
SUMMARY:Nifty Gifty
URL:https://eruuf.org/calendar/calendar-view/event/7384-nifty-gifty.html
END:VEVENT
END:VCALENDAR
