BEGIN:VCALENDAR
VERSION:2.0
PRODID:-//https://eruuf.org///NONSGML kigkonsult.se iCalcreator 2.10.15//
METHOD:PUBLISH
BEGIN:VEVENT
UID:20260423T142330UTC-4717Rxv2nV@https://eruuf.org/
DTSTAMP:20260423T142330Z
DESCRIPTION:Justice Ministry orientation meeting for all Justice Ministry L
 eaders and Ministry Associates. If you currently lead or are interested in
  starting a justice project at ERUUF\, or have a justice vision to share\,
  the Justice Ministry invites you to attend this important orientation mee
 ting. We will focus on creating project plans and budget requests for the 
 coming year\, and seeking your ideas as the Justice Ministry Steering Comm
 ittee forms our priorities for 2016 and 2017. For those of you who are cur
 rently leading Justice Action Groups\, this meeting is an essential beginn
 ing point to include your plans and needs as part of the Justice Ministry 
 at ERUUF. Please let us know you will come by sending a RSVP to AspenRomey
 n@gmail.com https://eruuf.org/calendar/calendar-view/event/739-justice-min
 istry.html
DTSTART:20160127T000000Z
DTEND:20160127T011500Z
LOCATION:Commons Room   (4907 Garrett Rd\, Durham\, NC 27707  )
SUMMARY:Justice Ministry
URL:https://eruuf.org/calendar/calendar-view/event/739-justice-ministry.htm
 l
END:VEVENT
END:VCALENDAR
