BEGIN:VCALENDAR
VERSION:2.0
PRODID:-//https://eruuf.org///NONSGML kigkonsult.se iCalcreator 2.10.15//
METHOD:PUBLISH
BEGIN:VEVENT
UID:20260424T025343UTC-0859lxnbkC@https://eruuf.org/
DTSTAMP:20260424T025343Z
DESCRIPTION:The monthly garden day on the first Saturday of the month is a 
 time for working and socializing together as we keep our grounds looking g
 ood.  Anyone can drop in for an hour or more. No experience necessary.  Ou
 r garden volunteer coordinator\, Barbara Beaman\, will guide you.  Your he
 lp is most appreciated! https://eruuf.org/calendar/calendar-view/event/743
 8-monthly-garden-day.html
DTSTART:20190713T123000Z
DTEND:20190713T153000Z
LOCATION:ERUUF Campus   (4907 Garrett Rd\, Durham\, NC 27707    )
SUMMARY:Monthly Garden Day
URL:https://eruuf.org/calendar/calendar-view/event/7438-monthly-garden-day.
 html
END:VEVENT
END:VCALENDAR
