BEGIN:VCALENDAR
VERSION:2.0
PRODID:-//https://eruuf.org///NONSGML kigkonsult.se iCalcreator 2.10.15//
METHOD:PUBLISH
BEGIN:VEVENT
UID:20260423T224204UTC-6816UrzVTu@https://eruuf.org/
DTSTAMP:20260423T224204Z
DESCRIPTION:The monthly garden day on the first Saturday of the month is a 
 time for working and socializing together as we keep our grounds looking g
 ood.  Anyone can drop in for an hour or more. No experience necessary.  Ou
 r garden volunteer coordinator\, Barbara Beaman\, will guide you.  Your he
 lp is most appreciated! https://eruuf.org/calendar/calendar-view/event/743
 9-monthly-garden-day.html
DTSTART:20190803T130000Z
DTEND:20190803T160000Z
LOCATION:ERUUF Campus   (4907 Garrett Rd\, Durham\, NC 27707    )
SUMMARY:Monthly Garden Day
URL:https://eruuf.org/calendar/calendar-view/event/7439-monthly-garden-day.
 html
END:VEVENT
END:VCALENDAR
