BEGIN:VCALENDAR
VERSION:2.0
PRODID:-//https://eruuf.org///NONSGML kigkonsult.se iCalcreator 2.10.15//
METHOD:PUBLISH
BEGIN:VEVENT
UID:20260421T000921UTC-2202ZxmVuW@https://eruuf.org/
DTSTAMP:20260421T000921Z
DESCRIPTION:Join Rev. Cayer and Rev. Brett on Sundays this summer for Beyon
 d Inquirers\, a 5-session course that goes deeper in addressing commonly a
 sked questions about Unitarian Universalism at ERUUF. All are welcome!  Ch
 ildcare is available for those who register by June 16. \nCourse topics:\n
 1. What Do UUs Believe? - June 23\n2. Is This a New Religion? - June 30\n3
 . How Do We ‘Do Church’? - July 7\n4. How Do We Live Our Values? - July 21
 *\n5. Why Membership Matters - July 28\nClasses take place on Sundays from
  12 noon - 1:00 pm in the Chapel. Minimum registration: 6 participants.\nC
 hildcare available for those who register by June 16.\n* No class on July 
 14.\nQuestions? Contact: Jenny Jolly: jjolly@eruuf.org\nRegister\n  https:
 //eruuf.org/calendar/calendar-view/event/7454-beyond-inquirers.html
DTSTART:20190721T160000Z
DTEND:20190721T170000Z
LOCATION:Chapel   ()
SUMMARY:Beyond Inquirers
URL:https://eruuf.org/calendar/calendar-view/event/7454-beyond-inquirers.ht
 ml
END:VEVENT
END:VCALENDAR
