BEGIN:VCALENDAR
VERSION:2.0
PRODID:-//https://eruuf.org///NONSGML kigkonsult.se iCalcreator 2.10.15//
METHOD:PUBLISH
BEGIN:VEVENT
UID:20260423T183301UTC-0976759VNs@https://eruuf.org/
DTSTAMP:20260423T183301Z
DESCRIPTION: https://eruuf.org/calendar/calendar-view/event/7460-green-sanc
 tuary-project-working-group.html
DTSTART:20190605T230000Z
DTEND:20190606T003000Z
LOCATION:Room 1 - CARE Building ()
SUMMARY:Green Sanctuary Project working group
URL:https://eruuf.org/calendar/calendar-view/event/7460-green-sanctuary-pro
 ject-working-group.html
END:VEVENT
END:VCALENDAR
