BEGIN:VCALENDAR
VERSION:2.0
PRODID:-//https://eruuf.org///NONSGML kigkonsult.se iCalcreator 2.10.15//
METHOD:PUBLISH
BEGIN:VEVENT
UID:20260423T063755UTC-25799ImL5c@https://eruuf.org/
DTSTAMP:20260423T063755Z
DESCRIPTION:Discover and Deepen is a series of classes that are offered in-
 between the worship services on Sunday mornings  (10:20-11:05 am) from Sep
 tember to May. This programming is designed especially for those intereste
 d in going deeper in their spiritual lives and broadening their relationsh
 ip circle at ERUUF.  See 2016 Winter Schedule https://eruuf.org/calendar/c
 alendar-view/event/756-deepen-and-discover.html
DTSTART:20160117T152000Z
DTEND:20160117T160500Z
LOCATION:Commons Room and Library ()
SUMMARY:Deepen and Discover
URL:https://eruuf.org/calendar/calendar-view/event/756-deepen-and-discover.
 html
END:VEVENT
END:VCALENDAR
